BEGIN:VCALENDAR
VERSION:2.0
PRODID:-//AudioTheme 2.3.8
BEGIN:VEVENT
UID:urn:uuid:57bc69d7-6a16-4940-b5b3-4d482157b07f
URL:https://paultaylorsax.com/gigs/charlotte-north-carolina/
DTSTART;VALUE=DATE:20251115
SUMMARY:Charlotte, North Carolina
DESCRIPTION:See you at MIddle C!  Friday November 14 (2 shows) and Saturday November 15 (2 shows).  Experience Middle C's intimate “New York Style” upscale club setting with Southern Hospitality.
LOCATION:Middle C Jazz\, 300 South Brevard Street\, Charlotte\, North Carolina\, USA\, 28202
END:VEVENT
END:VCALENDAR
